{
 "extent": {
  "ymin": 6449700,
  "xmin": -75000,
  "ymax": 8997700,
  "xmax": 1120000,
  "spatialReference": {
   "latestWkid": 32633,
   "wkid": 32633
  }
 },
 "blockWidth": 2048,
 "mosaicOperator": "First",
 "serviceSourceType": "esriImageServiceSourceTypeMosaicDataset",
 "hasMultidimensions": false,
 "maxImageWidth": 15000,
 "maxRecordCount": 1000,
 "meanValues": [],
 "hasColormap": false,
 "compressionType": "None",
 "defaultCompressionQuality": 90,
 "maxValues": [],
 "hasHistograms": false,
 "datasetFormat": "AMD",
 "maxImageHeight": 15000,
 "sortField": "",
 "bandNames": [
  "Band_1",
  "Band_2",
  "Band_3",
  "Band_4"
 ],
 "spatialReference": {
  "latestWkid": 32633,
  "wkid": 32633
 },
 "fullExtent": {
  "ymin": 6449700,
  "xmin": -75000,
  "ymax": 8997700,
  "xmax": 1120000,
  "spatialReference": {
   "latestWkid": 32633,
   "wkid": 32633
  }
 },
 "bandCount": 4,
 "rasterFunctionInfos": [
  {
   "help": "",
   "name": "None",
   "description": "A No-Op Function."
  }
 ],
 "supportsStatistics": true,
 "sortableFields": "minps,maxps,lowps,highps,centerx,centery,zorder,created_date,changed_date,st_area(shape),start_time,end_time,is_prognosis,production_system_id,production_time,production_source_id",
 "minValues": [],
 "allowRasterFunction": true,
 "allowComputeTiePoints": false,
 "serviceDataType": "esriImageServiceDataTypeProcessed",
 "supportsAdvancedQueries": true,
 "maxDownloadSizeLimit": 2048,
 "currentVersion": 12,
 "sortValue": null,
 "objectIdField": "objectid",
 "blockHeight": 256,
 "initialExtent": {
  "ymin": 6449700,
  "xmin": -75000,
  "ymax": 8997700,
  "xmax": 1120000,
  "spatialReference": {
   "latestWkid": 32633,
   "wkid": 32633
  }
 },
 "pixelSizeX": 1000,
 "pixelSizeY": 1000,
 "defaultMosaicMethod": "Northwest",
 "name": "seNorgeGrid_png",
 "allowedMosaicMethods": "NorthWest,LockRaster,ByAttribute",
 "maxDownloadImageCount": 0,
 "fields": [
  {
   "domain": null,
   "name": "objectid",
   "alias": "objectid",
   "type": "esriFieldTypeOID"
  },
  {
   "domain": null,
   "name": "name",
   "length": 200,
   "alias": "name",
   "type": "esriFieldTypeString"
  },
  {
   "domain": null,
   "name": "minps",
   "alias": "minps",
   "type": "esriFieldTypeDouble"
  },
  {
   "domain": null,
   "name": "maxps",
   "alias": "maxps",
   "type": "esriFieldTypeDouble"
  },
  {
   "domain": null,
   "name": "lowps",
   "alias": "lowps",
   "type": "esriFieldTypeDouble"
  },
  {
   "domain": null,
   "name": "highps",
   "alias": "highps",
   "type": "esriFieldTypeDouble"
  },
  {
   "domain": {
    "splitPolicy": "esriSPTDefaultValue",
    "name": "MosaicCatalogItemCategoryDomain",
    "description": "Catalog item categories.",
    "type": "codedValue",
    "codedValues": [
     {
      "code": 0,
      "name": "Unknown"
     },
     {
      "code": 1,
      "name": "Primary"
     },
     {
      "code": 2,
      "name": "Overview"
     },
     {
      "code": 3,
      "name": "Unprocessed Overview"
     },
     {
      "code": 4,
      "name": "Partial Overview"
     },
     {
      "code": 5,
      "name": "Inactive"
     },
     {
      "code": 253,
      "name": "Uploaded"
     },
     {
      "code": 254,
      "name": "Incomplete"
     },
     {
      "code": 255,
      "name": "Custom"
     }
    ],
    "mergePolicy": "esriMPTDefaultValue"
   },
   "name": "category",
   "alias": "category",
   "type": "esriFieldTypeInteger"
  },
  {
   "domain": null,
   "name": "tag",
   "length": 100,
   "alias": "tag",
   "type": "esriFieldTypeString"
  },
  {
   "domain": null,
   "name": "groupname",
   "length": 100,
   "alias": "groupname",
   "type": "esriFieldTypeString"
  },
  {
   "domain": null,
   "name": "productname",
   "length": 100,
   "alias": "productname",
   "type": "esriFieldTypeString"
  },
  {
   "domain": null,
   "name": "centerx",
   "alias": "centerx",
   "type": "esriFieldTypeDouble"
  },
  {
   "domain": null,
   "name": "centery",
   "alias": "centery",
   "type": "esriFieldTypeDouble"
  },
  {
   "domain": null,
   "name": "zorder",
   "alias": "zorder",
   "type": "esriFieldTypeInteger"
  },
  {
   "domain": null,
   "name": "created_by",
   "length": 255,
   "alias": "created_by",
   "type": "esriFieldTypeString"
  },
  {
   "domain": null,
   "name": "created_date",
   "length": 8,
   "alias": "created_date",
   "type": "esriFieldTypeDate"
  },
  {
   "domain": null,
   "name": "changed_by",
   "length": 255,
   "alias": "changed_by",
   "type": "esriFieldTypeString"
  },
  {
   "domain": null,
   "name": "changed_date",
   "length": 8,
   "alias": "changed_date",
   "type": "esriFieldTypeDate"
  },
  {
   "domain": null,
   "name": "product",
   "length": 255,
   "alias": "product",
   "type": "esriFieldTypeString"
  },
  {
   "domain": null,
   "name": "product_name",
   "length": 255,
   "alias": "product_name",
   "type": "esriFieldTypeString"
  },
  {
   "domain": null,
   "name": "start_time",
   "length": 8,
   "alias": "start_time",
   "type": "esriFieldTypeDate"
  },
  {
   "domain": null,
   "name": "end_time",
   "length": 8,
   "alias": "end_time",
   "type": "esriFieldTypeDate"
  },
  {
   "domain": null,
   "name": "aggregation_period",
   "length": 255,
   "alias": "aggregation_period",
   "type": "esriFieldTypeString"
  },
  {
   "domain": null,
   "name": "is_prognosis",
   "alias": "is_prognosis",
   "type": "esriFieldTypeSmallInteger"
  },
  {
   "domain": null,
   "name": "production_system_id",
   "alias": "production_system_id",
   "type": "esriFieldTypeInteger"
  },
  {
   "domain": null,
   "name": "production_time",
   "length": 8,
   "alias": "production_time",
   "type": "esriFieldTypeDate"
  },
  {
   "domain": null,
   "name": "production_source_id",
   "alias": "production_source_id",
   "type": "esriFieldTypeInteger"
  },
  {
   "domain": null,
   "name": "shape",
   "alias": "shape",
   "type": "esriFieldTypeGeometry"
  },
  {
   "domain": null,
   "name": "st_area(shape)",
   "alias": "st_area(shape)",
   "type": "esriFieldTypeDouble"
  }
 ],
 "allowAnalysis": true,
 "hasRasterAttributeTable": false,
 "useStandardizedQueries": true,
 "description": "",
 "pixelType": "U8",
 "meanPixelSize": 1000,
 "exportTilesAllowed": false,
 "editFieldsInfo": {
  "editDateField": "CHANGED_DATE",
  "editorField": "CHANGED_BY",
  "creationDateField": "CREATED_DATE",
  "creatorField": "CREATED_BY"
 },
 "rasterTypeInfos": [
  {
   "help": "",
   "name": "Raster Dataset",
   "description": "Supports all ArcGIS Raster Datasets"
  }
 ],
 "defaultResamplingMethod": "Nearest",
 "itemAccess": false,
 "minScale": 0,
 "serviceProperties": "NorthWest<\/MosaicMethod>First<\/MosaicOperator>true<\/SortAscending><\/LockImageID>name<\/TileOrderField>0<\/TileOrderBase>600.000000<\/AvgImageSpacingX>300.000000<\/AvgImageSpacingY>0.0<\/ViewPointX>0.0<\/ViewPointY>0.0<\/ViewPointDefShiftX>0.0<\/ViewPointDefShiftY>None<\/CompressionMethod>90<\/CompressionQuality>0.000000<\/CompressionTolerance>Nearest<\/SamplingMethod><\/ImageServiceProperties><\/ImageServer>",
 "advancedQueryCapabilities": {
  "supportsStatistics": true,
  "supportsSqlExpression": true,
  "supportsOrderBy": true,
  "useStandardizedQueries": true,
  "supportsPagination": true,
  "supportsDistinct": true
 },
 "serviceItemId": "b6c711aa245049919e00a8cffdfe2d5d",
 "capabilities": "Image,Metadata,Catalog,Mensuration",
 "maxScale": 0,
 "stdvValues": [],
 "allowedFields": "name,minps,maxps,lowps,highps,tag,groupname,productname,centerx,centery,zorder,created_by,created_date,changed_by,changed_date,st_area(shape),product,product_name,start_time,end_time,aggregation_period,is_prognosis,production_system_id,production_time,production_source_id",
 "minPixelSize": 0,
 "sortAscending": true,
 "maxMosaicImageCount": 1,
 "inspectionCapabilities": "",
 "maxPixelSize": 0,
 "uncompressedSize": 12179440,
 "serviceDescription": "seNorgeGrid_png",
 "allowCopy": true,
 "copyrightText": "",
 "mensurationCapabilities": "Basic",
 "ownershipBasedAccessControlForRasters": {
  "allowOthersToUpdate": false,
  "allowOthersToDelete": false
 }
}
