{
 "extent": {
  "ymin": 6450000,
  "xmin": -75000,
  "ymax": 8000000,
  "xmax": 1120000,
  "spatialReference": {
   "latestWkid": 32633,
   "wkid": 32633
  }
 },
 "blockWidth": 2048,
 "mosaicOperator": "First",
 "serviceSourceType": "esriImageServiceSourceTypeMosaicDataset",
 "hasMultidimensions": false,
 "maxImageWidth": 15000,
 "maxRecordCount": 1000,
 "meanValues": [],
 "hasColormap": false,
 "compressionType": "None",
 "defaultCompressionQuality": 90,
 "maxValues": [],
 "hasHistograms": false,
 "datasetFormat": "AMD",
 "maxImageHeight": 15000,
 "sortField": "",
 "bandNames": [
  "Band_1"
 ],
 "spatialReference": {
  "latestWkid": 32633,
  "wkid": 32633
 },
 "fullExtent": {
  "ymin": 6450000,
  "xmin": -75000,
  "ymax": 8000000,
  "xmax": 1120000,
  "spatialReference": {
   "latestWkid": 32633,
   "wkid": 32633
  }
 },
 "bandCount": 1,
 "rasterFunctionInfos": [
  {
   "help": "",
   "name": "None",
   "description": "Make a Raster or Raster Dataset into a Function Raster Dataset."
  },
  {
   "help": "",
   "name": "additionalSnowDepth",
   "description": "additionalSnowDepth"
  },
  {
   "help": "",
   "name": "age",
   "description": "age"
  },
  {
   "help": "",
   "name": "dayeq0lwcmth",
   "description": "dayeq0lwcmth"
  },
  {
   "help": "",
   "name": "daygt50sdmth",
   "description": "daygt50sdmth"
  },
  {
   "help": "",
   "name": "daygt50sdyr",
   "description": "daygt50sdyr"
  },
  {
   "help": "",
   "name": "daygt250sdmth",
   "description": "daygt250sdmth"
  },
  {
   "help": "",
   "name": "daygt250sdyr",
   "description": "daygt250sdyr"
  },
  {
   "help": "",
   "name": "depthHoarIndex1",
   "description": "depthHoarIndex1"
  },
  {
   "help": "",
   "name": "depthHoarIndex2",
   "description": "depthHoarIndex2"
  },
  {
   "help": "",
   "name": "fmi10dqtt3di",
   "description": "fmi10dqtt3di"
  },
  {
   "help": "",
   "name": "fmqi",
   "description": "fmqi"
  },
  {
   "help": "",
   "name": "fsw3da1",
   "description": "fsw3da1"
  },
  {
   "help": "",
   "name": "fsw3h",
   "description": "fsw3h"
  },
  {
   "help": "",
   "name": "fsw7d",
   "description": "fsw7d"
  },
  {
   "help": "",
   "name": "fsw",
   "description": "fsw"
  },
  {
   "help": "",
   "name": "fswa1",
   "description": "fswa1"
  },
  {
   "help": "",
   "name": "gwb_eva",
   "description": "gwb_eva"
  },
  {
   "help": "",
   "name": "gwb_frd",
   "description": "gwb_frd"
  },
  {
   "help": "",
   "name": "gwb_gwt",
   "description": "gwb_gwt"
  },
  {
   "help": "",
   "name": "gwb_gwtcl",
   "description": "gwb_gwtcl"
  },
  {
   "help": "",
   "name": "gwb_gwtdev",
   "description": "gwb_gwtdev"
  },
  {
   "help": "",
   "name": "gwb_landslideindex3",
   "description": "gwb_landslideindex3"
  },
  {
   "help": "",
   "name": "gwb_q",
   "description": "gwb_q"
  },
  {
   "help": "",
   "name": "gwb_qtt3dprqtt3dxyrx30yr",
   "description": "gwb_qtt3dprqtt3dxyrx30yr"
  },
  {
   "help": "",
   "name": "gwb_qtt",
   "description": "gwb_qtt"
  },
  {
   "help": "",
   "name": "gwb_qttprqttxyrx30yr",
   "description": "gwb_qttprqttxyrx30yr"
  },
  {
   "help": "",
   "name": "gwb_rr",
   "description": "gwb_rr"
  },
  {
   "help": "",
   "name": "gwb_sssdev",
   "description": "gwb_sssdev"
  },
  {
   "help": "",
   "name": "gwb_sssrel",
   "description": "gwb_sssrel"
  },
  {
   "help": "",
   "name": "gwb_swe",
   "description": "gwb_swe"
  },
  {
   "help": "",
   "name": "lwc3h",
   "description": "lwc3h"
  },
  {
   "help": "",
   "name": "lwc",
   "description": "lwc"
  },
  {
   "help": "",
   "name": "qsw3h",
   "description": "qsw3h"
  },
  {
   "help": "",
   "name": "qsw7d",
   "description": "qsw7d"
  },
  {
   "help": "",
   "name": "qsw",
   "description": "qsw"
  },
  {
   "help": "",
   "name": "qswenergy3h",
   "description": "qswenergy3h"
  },
  {
   "help": "",
   "name": "qswenergy",
   "description": "qswenergy"
  },
  {
   "help": "",
   "name": "qtt3dls",
   "description": "qtt3dls"
  },
  {
   "help": "",
   "name": "qtt3h",
   "description": "qtt3h"
  },
  {
   "help": "",
   "name": "qtt7d",
   "description": "qtt7d"
  },
  {
   "help": "",
   "name": "qtt",
   "description": "qtt"
  },
  {
   "help": "",
   "name": "qtta1",
   "description": "qtta1"
  },
  {
   "help": "",
   "name": "qttls",
   "description": "qttls"
  },
  {
   "help": "",
   "name": "qttmth",
   "description": "qttmth"
  },
  {
   "help": "",
   "name": "qttmthcl",
   "description": "qttmthcl"
  },
  {
   "help": "",
   "name": "qttsdai",
   "description": "qttsdai"
  },
  {
   "help": "",
   "name": "qttyr",
   "description": "qttyr"
  },
  {
   "help": "",
   "name": "rr3d",
   "description": "rr3d"
  },
  {
   "help": "",
   "name": "rr3h",
   "description": "rr3h"
  },
  {
   "help": "",
   "name": "rr3hprrr3hxm5",
   "description": "rr3hprrr3hxm5"
  },
  {
   "help": "",
   "name": "rr",
   "description": "rr"
  },
  {
   "help": "",
   "name": "rrmix",
   "description": "rrmix"
  },
  {
   "help": "",
   "name": "rrprrrxm5",
   "description": "rrprrrxm5"
  },
  {
   "help": "",
   "name": "rryr30yr_19712000",
   "description": "rryr30yr_19712000"
  },
  {
   "help": "",
   "name": "rryr30yr_19912020",
   "description": "rryr30yr_19912020"
  },
  {
   "help": "",
   "name": "sd",
   "description": "sd"
  },
  {
   "help": "",
   "name": "sda1",
   "description": "sda1"
  },
  {
   "help": "",
   "name": "sddmth",
   "description": "sddmth"
  },
  {
   "help": "",
   "name": "sdfsw3d",
   "description": "sdfsw3d"
  },
  {
   "help": "",
   "name": "sdfsw3h",
   "description": "sdfsw3h"
  },
  {
   "help": "",
   "name": "sdfsw",
   "description": "sdfsw"
  },
  {
   "help": "",
   "name": "sdnmth",
   "description": "sdnmth"
  },
  {
   "help": "",
   "name": "sdxmth",
   "description": "sdxmth"
  },
  {
   "help": "",
   "name": "sdxyr30yr_19912020",
   "description": "sdxyr30yr_19912020"
  },
  {
   "help": "",
   "name": "sdxyr",
   "description": "sdxyr"
  },
  {
   "help": "",
   "name": "seNorge2018_rr",
   "description": "seNorge2018_rr"
  },
  {
   "help": "",
   "name": "seNorge2018_swe",
   "description": "seNorge2018_swe"
  },
  {
   "help": "",
   "name": "seNorge2018_tm",
   "description": "seNorge2018_tm"
  },
  {
   "help": "",
   "name": "ski",
   "description": "ski"
  },
  {
   "help": "",
   "name": "snowload",
   "description": "snowload"
  },
  {
   "help": "",
   "name": "sva_fsw3h",
   "description": "sva_fsw3h"
  },
  {
   "help": "",
   "name": "sva_fsw",
   "description": "sva_fsw"
  },
  {
   "help": "",
   "name": "sva_lwc3h",
   "description": "sva_lwc3h"
  },
  {
   "help": "",
   "name": "sva_lwc",
   "description": "sva_lwc"
  },
  {
   "help": "",
   "name": "sva_qsw3h",
   "description": "sva_qsw3h"
  },
  {
   "help": "",
   "name": "sva_qsw",
   "description": "sva_qsw"
  },
  {
   "help": "",
   "name": "sva_qtt3h",
   "description": "sva_qtt3h"
  },
  {
   "help": "",
   "name": "sva_qtt",
   "description": "sva_qtt"
  },
  {
   "help": "",
   "name": "sva_rr3h",
   "description": "sva_rr3h"
  },
  {
   "help": "",
   "name": "sva_rr24h06",
   "description": "sva_rr24h06"
  },
  {
   "help": "",
   "name": "sva_rr",
   "description": "sva_rr"
  },
  {
   "help": "",
   "name": "sva_sd",
   "description": "sva_sd"
  },
  {
   "help": "",
   "name": "sva_sdfsw3h",
   "description": "sva_sdfsw3h"
  },
  {
   "help": "",
   "name": "sva_sdfsw",
   "description": "sva_sdfsw"
  },
  {
   "help": "",
   "name": "sva_swe3h",
   "description": "sva_swe3h"
  },
  {
   "help": "",
   "name": "sva_swe",
   "description": "sva_swe"
  },
  {
   "help": "",
   "name": "sva_tm3h",
   "description": "sva_tm3h"
  },
  {
   "help": "",
   "name": "sva_tm24h06",
   "description": "sva_tm24h06"
  },
  {
   "help": "",
   "name": "sva_tm",
   "description": "sva_tm"
  },
  {
   "help": "",
   "name": "swe3h",
   "description": "swe3h"
  },
  {
   "help": "",
   "name": "swe",
   "description": "swe"
  },
  {
   "help": "",
   "name": "swechange7d",
   "description": "swechange7d"
  },
  {
   "help": "",
   "name": "swepr",
   "description": "swepr"
  },
  {
   "help": "",
   "name": "swerank",
   "description": "swerank"
  },
  {
   "help": "",
   "name": "swexmth",
   "description": "swexmth"
  },
  {
   "help": "",
   "name": "swexyr30yr_19912020",
   "description": "swexyr30yr_19912020"
  },
  {
   "help": "",
   "name": "swexyr",
   "description": "swexyr"
  },
  {
   "help": "",
   "name": "tm3h",
   "description": "tm3h"
  },
  {
   "help": "",
   "name": "tm24h06",
   "description": "tm24h06"
  },
  {
   "help": "",
   "name": "tm",
   "description": "tm"
  },
  {
   "help": "",
   "name": "tmgr",
   "description": "tmgr"
  },
  {
   "help": "",
   "name": "tmyr30yr_19712000",
   "description": "tmyr30yr_19712000"
  },
  {
   "help": "",
   "name": "tmyr30yr_19912020",
   "description": "tmyr30yr_19912020"
  },
  {
   "help": "",
   "name": "windDirection10m3h",
   "description": "windDirection10m3h"
  },
  {
   "help": "",
   "name": "windDirection10m24h06",
   "description": "windDirection10m24h06"
  },
  {
   "help": "",
   "name": "windSpeed10m3h",
   "description": "windSpeed10m3h"
  },
  {
   "help": "",
   "name": "windSpeed10m24h06",
   "description": "windSpeed10m24h06"
  }
 ],
 "supportsStatistics": true,
 "sortableFields": "minps,maxps,lowps,highps,centerx,centery,zorder,created_date,changed_date,st_area(shape),start_time,end_time,is_prognosis,production_system_id,production_time,production_source_id",
 "minValues": [],
 "allowRasterFunction": true,
 "allowComputeTiePoints": false,
 "serviceDataType": "esriImageServiceDataTypeProcessed",
 "supportsAdvancedQueries": true,
 "maxDownloadSizeLimit": 2048,
 "currentVersion": 11.5,
 "sortValue": null,
 "objectIdField": "objectid",
 "blockHeight": 256,
 "initialExtent": {
  "ymin": 6450000,
  "xmin": -75000,
  "ymax": 8000000,
  "xmax": 1120000,
  "spatialReference": {
   "latestWkid": 32633,
   "wkid": 32633
  }
 },
 "pixelSizeX": 1000,
 "pixelSizeY": 1000,
 "defaultMosaicMethod": "Northwest",
 "name": "seNorgeGrid",
 "allowedMosaicMethods": "NorthWest,LockRaster,ByAttribute",
 "maxDownloadImageCount": 0,
 "fields": [
  {
   "domain": null,
   "name": "objectid",
   "alias": "objectid",
   "type": "esriFieldTypeOID"
  },
  {
   "domain": null,
   "name": "name",
   "length": 200,
   "alias": "name",
   "type": "esriFieldTypeString"
  },
  {
   "domain": null,
   "name": "minps",
   "alias": "minps",
   "type": "esriFieldTypeDouble"
  },
  {
   "domain": null,
   "name": "maxps",
   "alias": "maxps",
   "type": "esriFieldTypeDouble"
  },
  {
   "domain": null,
   "name": "lowps",
   "alias": "lowps",
   "type": "esriFieldTypeDouble"
  },
  {
   "domain": null,
   "name": "highps",
   "alias": "highps",
   "type": "esriFieldTypeDouble"
  },
  {
   "domain": {
    "splitPolicy": "esriSPTDefaultValue",
    "name": "MosaicCatalogItemCategoryDomain",
    "description": "Catalog item categories.",
    "type": "codedValue",
    "codedValues": [
     {
      "code": 0,
      "name": "Unknown"
     },
     {
      "code": 1,
      "name": "Primary"
     },
     {
      "code": 2,
      "name": "Overview"
     },
     {
      "code": 3,
      "name": "Unprocessed Overview"
     },
     {
      "code": 4,
      "name": "Partial Overview"
     },
     {
      "code": 5,
      "name": "Inactive"
     },
     {
      "code": 253,
      "name": "Uploaded"
     },
     {
      "code": 254,
      "name": "Incomplete"
     },
     {
      "code": 255,
      "name": "Custom"
     }
    ],
    "mergePolicy": "esriMPTDefaultValue"
   },
   "name": "category",
   "alias": "category",
   "type": "esriFieldTypeInteger"
  },
  {
   "domain": null,
   "name": "tag",
   "length": 100,
   "alias": "tag",
   "type": "esriFieldTypeString"
  },
  {
   "domain": null,
   "name": "groupname",
   "length": 100,
   "alias": "groupname",
   "type": "esriFieldTypeString"
  },
  {
   "domain": null,
   "name": "productname",
   "length": 100,
   "alias": "productname",
   "type": "esriFieldTypeString"
  },
  {
   "domain": null,
   "name": "centerx",
   "alias": "centerx",
   "type": "esriFieldTypeDouble"
  },
  {
   "domain": null,
   "name": "centery",
   "alias": "centery",
   "type": "esriFieldTypeDouble"
  },
  {
   "domain": null,
   "name": "zorder",
   "alias": "zorder",
   "type": "esriFieldTypeInteger"
  },
  {
   "domain": null,
   "name": "created_by",
   "length": 255,
   "alias": "created_by",
   "type": "esriFieldTypeString"
  },
  {
   "domain": null,
   "name": "created_date",
   "length": 8,
   "alias": "created_date",
   "type": "esriFieldTypeDate"
  },
  {
   "domain": null,
   "name": "changed_by",
   "length": 255,
   "alias": "changed_by",
   "type": "esriFieldTypeString"
  },
  {
   "domain": null,
   "name": "changed_date",
   "length": 8,
   "alias": "changed_date",
   "type": "esriFieldTypeDate"
  },
  {
   "domain": null,
   "name": "product",
   "length": 255,
   "alias": "product",
   "type": "esriFieldTypeString"
  },
  {
   "domain": null,
   "name": "product_name",
   "length": 255,
   "alias": "product_name",
   "type": "esriFieldTypeString"
  },
  {
   "domain": null,
   "name": "start_time",
   "length": 8,
   "alias": "start_time",
   "type": "esriFieldTypeDate"
  },
  {
   "domain": null,
   "name": "end_time",
   "length": 8,
   "alias": "end_time",
   "type": "esriFieldTypeDate"
  },
  {
   "domain": null,
   "name": "aggregation_period",
   "length": 255,
   "alias": "aggregation_period",
   "type": "esriFieldTypeString"
  },
  {
   "domain": null,
   "name": "is_prognosis",
   "alias": "is_prognosis",
   "type": "esriFieldTypeSmallInteger"
  },
  {
   "domain": null,
   "name": "production_system_id",
   "alias": "production_system_id",
   "type": "esriFieldTypeInteger"
  },
  {
   "domain": null,
   "name": "production_time",
   "length": 8,
   "alias": "production_time",
   "type": "esriFieldTypeDate"
  },
  {
   "domain": null,
   "name": "production_source_id",
   "alias": "production_source_id",
   "type": "esriFieldTypeInteger"
  },
  {
   "domain": null,
   "name": "shape",
   "alias": "shape",
   "type": "esriFieldTypeGeometry"
  },
  {
   "domain": null,
   "name": "st_area(shape)",
   "alias": "st_area(shape)",
   "type": "esriFieldTypeDouble"
  }
 ],
 "allowAnalysis": true,
 "hasRasterAttributeTable": false,
 "useStandardizedQueries": true,
 "description": "",
 "pixelType": "S32",
 "meanPixelSize": 1000,
 "exportTilesAllowed": false,
 "editFieldsInfo": {
  "editDateField": "CHANGED_DATE",
  "editorField": "CHANGED_BY",
  "creationDateField": "CREATED_DATE",
  "creatorField": "CREATED_BY"
 },
 "rasterTypeInfos": [
  {
   "help": "",
   "name": "Raster Dataset",
   "description": "Supports all ArcGIS Raster Datasets"
  }
 ],
 "defaultResamplingMethod": "Nearest",
 "itemAccess": false,
 "minScale": 0,
 "serviceProperties": "NorthWest<\/MosaicMethod>First<\/MosaicOperator>true<\/SortAscending><\/LockImageID>name<\/TileOrderField>0<\/TileOrderBase>600.000000<\/AvgImageSpacingX>300.000000<\/AvgImageSpacingY>0.0<\/ViewPointX>0.0<\/ViewPointY>0.0<\/ViewPointDefShiftX>0.0<\/ViewPointDefShiftY>None<\/CompressionMethod>90<\/CompressionQuality>0.000000<\/CompressionTolerance>Nearest<\/SamplingMethod><\/ImageServiceProperties><\/ImageServer>",
 "advancedQueryCapabilities": {
  "supportsStatistics": true,
  "supportsOrderBy": true,
  "useStandardizedQueries": true,
  "supportsPagination": true,
  "supportsDistinct": true
 },
 "serviceItemId": "04223167e4bb406da6a3b52f1fba7e91",
 "capabilities": "Image,Metadata,Catalog,Mensuration",
 "maxScale": 0,
 "stdvValues": [],
 "allowedFields": "name,minps,maxps,lowps,highps,tag,groupname,productname,centerx,centery,zorder,created_by,created_date,changed_by,changed_date,st_area(shape),product,product_name,start_time,end_time,aggregation_period,is_prognosis,production_system_id,production_time,production_source_id",
 "minPixelSize": 0,
 "sortAscending": true,
 "maxMosaicImageCount": 1,
 "inspectionCapabilities": "",
 "maxPixelSize": 0,
 "uncompressedSize": 7409000,
 "serviceDescription": "seNorgeGrid",
 "allowCopy": true,
 "copyrightText": "",
 "mensurationCapabilities": "Basic",
 "ownershipBasedAccessControlForRasters": {
  "allowOthersToUpdate": false,
  "allowOthersToDelete": false
 }
}
